BEGIN:VCALENDAR
VERSION:2.0
PRODID:-//PKP SENIORENBETREUUNG - ECPv6.15.20//NONSGML v1.0//EN
CALSCALE:GREGORIAN
METHOD:PUBLISH
X-ORIGINAL-URL:https://www.pkp-seniorenbetreuung.de
X-WR-CALDESC:Veranstaltungen für PKP SENIORENBETREUUNG
REFRESH-INTERVAL;VALUE=DURATION:PT1H
X-Robots-Tag:noindex
X-PUBLISHED-TTL:PT1H
BEGIN:VTIMEZONE
TZID:Europe/Berlin
BEGIN:DAYLIGHT
TZOFFSETFROM:+0100
TZOFFSETTO:+0200
TZNAME:CEST
DTSTART:20240331T010000
END:DAYLIGHT
BEGIN:STANDARD
TZOFFSETFROM:+0200
TZOFFSETTO:+0100
TZNAME:CET
DTSTART:20241027T010000
END:STANDARD
BEGIN:DAYLIGHT
TZOFFSETFROM:+0100
TZOFFSETTO:+0200
TZNAME:CEST
DTSTART:20250330T010000
END:DAYLIGHT
BEGIN:STANDARD
TZOFFSETFROM:+0200
TZOFFSETTO:+0100
TZNAME:CET
DTSTART:20251026T010000
END:STANDARD
BEGIN:DAYLIGHT
TZOFFSETFROM:+0100
TZOFFSETTO:+0200
TZNAME:CEST
DTSTART:20260329T010000
END:DAYLIGHT
BEGIN:STANDARD
TZOFFSETFROM:+0200
TZOFFSETTO:+0100
TZNAME:CET
DTSTART:20261025T010000
END:STANDARD
END:VTIMEZONE
BEGIN:VEVENT
DTSTART;VALUE=DATE:20251030
DTEND;VALUE=DATE:20251031
DTSTAMP:20260423T202346
CREATED:20251006T114354Z
LAST-MODIFIED:20251006T114354Z
UID:9435-1761782400-1761868799@www.pkp-seniorenbetreuung.de
SUMMARY:Gesprächsrunde
DESCRIPTION:Themen: Reformationstag und Allerheiligen
URL:https://www.pkp-seniorenbetreuung.de/angebot/gespraechsrunde-30-10-2025/
LOCATION:PKP Seniorenbetreuung Heinrichsort GmbH\, Prinz-Heinrich-Straße 18\, Lichtenstein OT Heinrichsort\, 09350
CATEGORIES:Heinrichsort
ORGANIZER;CN="PKP Seniorenbetreuung Heinrichsort GmbH":MAILTO:heimleitung@pkp-heinrichsort.de
END:VEVENT
END:VCALENDAR