BEGIN:VCALENDAR
VERSION:2.0
PRODID:-//PKP SENIORENBETREUUNG - ECPv6.15.20//NONSGML v1.0//EN
CALSCALE:GREGORIAN
METHOD:PUBLISH
X-ORIGINAL-URL:https://www.pkp-seniorenbetreuung.de
X-WR-CALDESC:Veranstaltungen für PKP SENIORENBETREUUNG
REFRESH-INTERVAL;VALUE=DURATION:PT1H
X-Robots-Tag:noindex
X-PUBLISHED-TTL:PT1H
BEGIN:VTIMEZONE
TZID:Europe/Berlin
BEGIN:DAYLIGHT
TZOFFSETFROM:+0100
TZOFFSETTO:+0200
TZNAME:CEST
DTSTART:20240331T010000
END:DAYLIGHT
BEGIN:STANDARD
TZOFFSETFROM:+0200
TZOFFSETTO:+0100
TZNAME:CET
DTSTART:20241027T010000
END:STANDARD
BEGIN:DAYLIGHT
TZOFFSETFROM:+0100
TZOFFSETTO:+0200
TZNAME:CEST
DTSTART:20250330T010000
END:DAYLIGHT
BEGIN:STANDARD
TZOFFSETFROM:+0200
TZOFFSETTO:+0100
TZNAME:CET
DTSTART:20251026T010000
END:STANDARD
BEGIN:DAYLIGHT
TZOFFSETFROM:+0100
TZOFFSETTO:+0200
TZNAME:CEST
DTSTART:20260329T010000
END:DAYLIGHT
BEGIN:STANDARD
TZOFFSETFROM:+0200
TZOFFSETTO:+0100
TZNAME:CET
DTSTART:20261025T010000
END:STANDARD
END:VTIMEZONE
BEGIN:VEVENT
DTSTART;TZID=Europe/Berlin:20250702T093000
DTEND;TZID=Europe/Berlin:20250702T110000
DTSTAMP:20260420T233038
CREATED:20250630T073029Z
LAST-MODIFIED:20250630T102401Z
UID:9064-1751448600-1751454000@www.pkp-seniorenbetreuung.de
SUMMARY:Alpaka-Streichelstunde
DESCRIPTION:
URL:https://www.pkp-seniorenbetreuung.de/angebot/streichelstunde-02-07-2025/
LOCATION:PKP Seniorenbetreuung Hohenstein-Ernstthal GmbH\, Südstraße 13\, Hohenstein- Ernstthal\, 09337 
CATEGORIES:Hohenstein-Ernstthal
ORGANIZER;CN="PKP Seniorenbetreuung Hohenstein-Ernstthal GmbH":MAILTO:info@pkp-hohenstein.de
END:VEVENT
BEGIN:VEVENT
DTSTART;TZID=Europe/Berlin:20250703T093000
DTEND;TZID=Europe/Berlin:20250703T110000
DTSTAMP:20260420T233038
CREATED:20250630T102441Z
LAST-MODIFIED:20250630T102441Z
UID:9085-1751535000-1751540400@www.pkp-seniorenbetreuung.de
SUMMARY:Alpaka-Streichelstunde
DESCRIPTION:
URL:https://www.pkp-seniorenbetreuung.de/angebot/streichelstunde-03-07-2025/
LOCATION:PKP Seniorenbetreuung Hohenstein-Ernstthal GmbH\, Südstraße 13\, Hohenstein- Ernstthal\, 09337 
CATEGORIES:Hohenstein-Ernstthal
ORGANIZER;CN="PKP Seniorenbetreuung Hohenstein-Ernstthal GmbH":MAILTO:info@pkp-hohenstein.de
END:VEVENT
END:VCALENDAR