BEGIN:VCALENDAR
VERSION:2.0
PRODID:-//PKP SENIORENBETREUUNG - ECPv6.15.20//NONSGML v1.0//EN
CALSCALE:GREGORIAN
METHOD:PUBLISH
X-ORIGINAL-URL:https://www.pkp-seniorenbetreuung.de
X-WR-CALDESC:Veranstaltungen für PKP SENIORENBETREUUNG
REFRESH-INTERVAL;VALUE=DURATION:PT1H
X-Robots-Tag:noindex
X-PUBLISHED-TTL:PT1H
BEGIN:VTIMEZONE
TZID:Europe/Berlin
BEGIN:DAYLIGHT
TZOFFSETFROM:+0100
TZOFFSETTO:+0200
TZNAME:CEST
DTSTART:20250330T010000
END:DAYLIGHT
BEGIN:STANDARD
TZOFFSETFROM:+0200
TZOFFSETTO:+0100
TZNAME:CET
DTSTART:20251026T010000
END:STANDARD
BEGIN:DAYLIGHT
TZOFFSETFROM:+0100
TZOFFSETTO:+0200
TZNAME:CEST
DTSTART:20260329T010000
END:DAYLIGHT
BEGIN:STANDARD
TZOFFSETFROM:+0200
TZOFFSETTO:+0100
TZNAME:CET
DTSTART:20261025T010000
END:STANDARD
BEGIN:DAYLIGHT
TZOFFSETFROM:+0100
TZOFFSETTO:+0200
TZNAME:CEST
DTSTART:20270328T010000
END:DAYLIGHT
BEGIN:STANDARD
TZOFFSETFROM:+0200
TZOFFSETTO:+0100
TZNAME:CET
DTSTART:20271031T010000
END:STANDARD
END:VTIMEZONE
BEGIN:VEVENT
DTSTART;TZID=Europe/Berlin:20260303T100000
DTEND;TZID=Europe/Berlin:20260303T100000
DTSTAMP:20260425T140306
CREATED:20260306T074038Z
LAST-MODIFIED:20260306T074038Z
UID:10259-1772532000-1772532000@www.pkp-seniorenbetreuung.de
SUMMARY:Frühlingsbasteln
DESCRIPTION:
URL:https://www.pkp-seniorenbetreuung.de/angebot/fruehlingsbasteln-03-03-2026/
LOCATION:PKP Seniorenbetreuung Hohenstein-Ernstthal GmbH\, Südstraße 13\, Hohenstein- Ernstthal\, 09337 
CATEGORIES:Hohenstein-Ernstthal
ORGANIZER;CN="PKP Seniorenbetreuung Hohenstein-Ernstthal GmbH":MAILTO:info@pkp-hohenstein.de
END:VEVENT
BEGIN:VEVENT
DTSTART;TZID=Europe/Berlin:20260304T100000
DTEND;TZID=Europe/Berlin:20260304T100000
DTSTAMP:20260425T140306
CREATED:20260306T074139Z
LAST-MODIFIED:20260306T074139Z
UID:10261-1772618400-1772618400@www.pkp-seniorenbetreuung.de
SUMMARY:Frühlingsbasteln
DESCRIPTION:
URL:https://www.pkp-seniorenbetreuung.de/angebot/fruehlingsbasteln-04-03-2026/
LOCATION:PKP Seniorenbetreuung Hohenstein-Ernstthal GmbH\, Südstraße 13\, Hohenstein- Ernstthal\, 09337 
CATEGORIES:Hohenstein-Ernstthal
ORGANIZER;CN="PKP Seniorenbetreuung Hohenstein-Ernstthal GmbH":MAILTO:info@pkp-hohenstein.de
END:VEVENT
BEGIN:VEVENT
DTSTART;TZID=Europe/Berlin:20260306T100000
DTEND;TZID=Europe/Berlin:20260306T100000
DTSTAMP:20260425T140306
CREATED:20260306T074233Z
LAST-MODIFIED:20260306T074233Z
UID:10263-1772791200-1772791200@www.pkp-seniorenbetreuung.de
SUMMARY:Frühlingsbasteln
DESCRIPTION:
URL:https://www.pkp-seniorenbetreuung.de/angebot/fruehlingsbasteln-06-03-2026/
LOCATION:PKP Seniorenbetreuung Hohenstein-Ernstthal GmbH\, Südstraße 13\, Hohenstein- Ernstthal\, 09337 
CATEGORIES:Hohenstein-Ernstthal
ORGANIZER;CN="PKP Seniorenbetreuung Hohenstein-Ernstthal GmbH":MAILTO:info@pkp-hohenstein.de
END:VEVENT
BEGIN:VEVENT
DTSTART;TZID=Europe/Berlin:20260310T100000
DTEND;TZID=Europe/Berlin:20260310T100000
DTSTAMP:20260425T140306
CREATED:20260306T074312Z
LAST-MODIFIED:20260306T074312Z
UID:10265-1773136800-1773136800@www.pkp-seniorenbetreuung.de
SUMMARY:Frühlingsbasteln
DESCRIPTION:
URL:https://www.pkp-seniorenbetreuung.de/angebot/fruehlingsbasteln-10-03-2026/
LOCATION:PKP Seniorenbetreuung Hohenstein-Ernstthal GmbH\, Südstraße 13\, Hohenstein- Ernstthal\, 09337 
CATEGORIES:Hohenstein-Ernstthal
ORGANIZER;CN="PKP Seniorenbetreuung Hohenstein-Ernstthal GmbH":MAILTO:info@pkp-hohenstein.de
END:VEVENT
BEGIN:VEVENT
DTSTART;TZID=Europe/Berlin:20260311T100000
DTEND;TZID=Europe/Berlin:20260311T100000
DTSTAMP:20260425T140306
CREATED:20260306T074353Z
LAST-MODIFIED:20260306T074353Z
UID:10267-1773223200-1773223200@www.pkp-seniorenbetreuung.de
SUMMARY:Frühlingsbasteln
DESCRIPTION:
URL:https://www.pkp-seniorenbetreuung.de/angebot/fruehlingsbasteln-11-03-2026/
LOCATION:PKP Seniorenbetreuung Hohenstein-Ernstthal GmbH\, Südstraße 13\, Hohenstein- Ernstthal\, 09337 
CATEGORIES:Hohenstein-Ernstthal
ORGANIZER;CN="PKP Seniorenbetreuung Hohenstein-Ernstthal GmbH":MAILTO:info@pkp-hohenstein.de
END:VEVENT
BEGIN:VEVENT
DTSTART;TZID=Europe/Berlin:20260313T100000
DTEND;TZID=Europe/Berlin:20260313T100000
DTSTAMP:20260425T140306
CREATED:20260306T074433Z
LAST-MODIFIED:20260306T074433Z
UID:10269-1773396000-1773396000@www.pkp-seniorenbetreuung.de
SUMMARY:Frühlingsbasteln
DESCRIPTION:
URL:https://www.pkp-seniorenbetreuung.de/angebot/fruehlingsbasteln-13-03-2026/
LOCATION:PKP Seniorenbetreuung Hohenstein-Ernstthal GmbH\, Südstraße 13\, Hohenstein- Ernstthal\, 09337 
CATEGORIES:Hohenstein-Ernstthal
ORGANIZER;CN="PKP Seniorenbetreuung Hohenstein-Ernstthal GmbH":MAILTO:info@pkp-hohenstein.de
END:VEVENT
BEGIN:VEVENT
DTSTART;TZID=Europe/Berlin:20260317T100000
DTEND;TZID=Europe/Berlin:20260317T100000
DTSTAMP:20260425T140306
CREATED:20260306T074508Z
LAST-MODIFIED:20260306T074508Z
UID:10271-1773741600-1773741600@www.pkp-seniorenbetreuung.de
SUMMARY:Frühlingsbasteln
DESCRIPTION:
URL:https://www.pkp-seniorenbetreuung.de/angebot/fruehlingsbasteln-17-03-2026/
LOCATION:PKP Seniorenbetreuung Hohenstein-Ernstthal GmbH\, Südstraße 13\, Hohenstein- Ernstthal\, 09337 
CATEGORIES:Hohenstein-Ernstthal
ORGANIZER;CN="PKP Seniorenbetreuung Hohenstein-Ernstthal GmbH":MAILTO:info@pkp-hohenstein.de
END:VEVENT
BEGIN:VEVENT
DTSTART;TZID=Europe/Berlin:20260318T100000
DTEND;TZID=Europe/Berlin:20260318T100000
DTSTAMP:20260425T140306
CREATED:20260306T074601Z
LAST-MODIFIED:20260306T074601Z
UID:10273-1773828000-1773828000@www.pkp-seniorenbetreuung.de
SUMMARY:Frühlingsbasteln
DESCRIPTION:
URL:https://www.pkp-seniorenbetreuung.de/angebot/fruehlingsbasteln-18-03-2026/
LOCATION:PKP Seniorenbetreuung Hohenstein-Ernstthal GmbH\, Südstraße 13\, Hohenstein- Ernstthal\, 09337 
CATEGORIES:Hohenstein-Ernstthal
ORGANIZER;CN="PKP Seniorenbetreuung Hohenstein-Ernstthal GmbH":MAILTO:info@pkp-hohenstein.de
END:VEVENT
BEGIN:VEVENT
DTSTART;TZID=Europe/Berlin:20260320T100000
DTEND;TZID=Europe/Berlin:20260320T100000
DTSTAMP:20260425T140306
CREATED:20260306T074636Z
LAST-MODIFIED:20260306T074636Z
UID:10275-1774000800-1774000800@www.pkp-seniorenbetreuung.de
SUMMARY:Frühlingsbasteln
DESCRIPTION:
URL:https://www.pkp-seniorenbetreuung.de/angebot/fruehlingsbasteln-20-03-2026/
LOCATION:PKP Seniorenbetreuung Hohenstein-Ernstthal GmbH\, Südstraße 13\, Hohenstein- Ernstthal\, 09337 
CATEGORIES:Hohenstein-Ernstthal
ORGANIZER;CN="PKP Seniorenbetreuung Hohenstein-Ernstthal GmbH":MAILTO:info@pkp-hohenstein.de
END:VEVENT
END:VCALENDAR