BEGIN:VCALENDAR
VERSION:2.0
PRODID:-//PKP SENIORENBETREUUNG - ECPv6.15.20//NONSGML v1.0//EN
CALSCALE:GREGORIAN
METHOD:PUBLISH
X-WR-CALNAME:PKP SENIORENBETREUUNG
X-ORIGINAL-URL:https://www.pkp-seniorenbetreuung.de
X-WR-CALDESC:Veranstaltungen für PKP SENIORENBETREUUNG
REFRESH-INTERVAL;VALUE=DURATION:PT1H
X-Robots-Tag:noindex
X-PUBLISHED-TTL:PT1H
BEGIN:VTIMEZONE
TZID:Europe/Berlin
BEGIN:DAYLIGHT
TZOFFSETFROM:+0100
TZOFFSETTO:+0200
TZNAME:CEST
DTSTART:20240331T010000
END:DAYLIGHT
BEGIN:STANDARD
TZOFFSETFROM:+0200
TZOFFSETTO:+0100
TZNAME:CET
DTSTART:20241027T010000
END:STANDARD
BEGIN:DAYLIGHT
TZOFFSETFROM:+0100
TZOFFSETTO:+0200
TZNAME:CEST
DTSTART:20250330T010000
END:DAYLIGHT
BEGIN:STANDARD
TZOFFSETFROM:+0200
TZOFFSETTO:+0100
TZNAME:CET
DTSTART:20251026T010000
END:STANDARD
BEGIN:DAYLIGHT
TZOFFSETFROM:+0100
TZOFFSETTO:+0200
TZNAME:CEST
DTSTART:20260329T010000
END:DAYLIGHT
BEGIN:STANDARD
TZOFFSETFROM:+0200
TZOFFSETTO:+0100
TZNAME:CET
DTSTART:20261025T010000
END:STANDARD
END:VTIMEZONE
BEGIN:VEVENT
DTSTART;TZID=Europe/Berlin:20251007T100000
DTEND;TZID=Europe/Berlin:20251007T100000
DTSTAMP:20260423T232124
CREATED:20251007T072521Z
LAST-MODIFIED:20251007T072521Z
UID:9484-1759831200-1759831200@www.pkp-seniorenbetreuung.de
SUMMARY:Wir zaubern Herbstgebäck
DESCRIPTION:
URL:https://www.pkp-seniorenbetreuung.de/angebot/herbstgebaeck-07-10-2025/
LOCATION:PKP Seniorenbetreuung Hohenstein-Ernstthal GmbH\, Südstraße 13\, Hohenstein- Ernstthal\, 09337 
CATEGORIES:Hohenstein-Ernstthal
ORGANIZER;CN="PKP Seniorenbetreuung Hohenstein-Ernstthal GmbH":MAILTO:info@pkp-hohenstein.de
END:VEVENT
BEGIN:VEVENT
DTSTART;TZID=Europe/Berlin:20251008T100000
DTEND;TZID=Europe/Berlin:20251008T100000
DTSTAMP:20260423T232124
CREATED:20251007T072626Z
LAST-MODIFIED:20251007T072626Z
UID:9486-1759917600-1759917600@www.pkp-seniorenbetreuung.de
SUMMARY:Wir zaubern Herbstgebäck
DESCRIPTION:
URL:https://www.pkp-seniorenbetreuung.de/angebot/herbstgebaeck-08-10-2025/
LOCATION:PKP Seniorenbetreuung Hohenstein-Ernstthal GmbH\, Südstraße 13\, Hohenstein- Ernstthal\, 09337 
CATEGORIES:Hohenstein-Ernstthal
ORGANIZER;CN="PKP Seniorenbetreuung Hohenstein-Ernstthal GmbH":MAILTO:info@pkp-hohenstein.de
END:VEVENT
BEGIN:VEVENT
DTSTART;TZID=Europe/Berlin:20251010T100000
DTEND;TZID=Europe/Berlin:20251010T100000
DTSTAMP:20260423T232124
CREATED:20251007T072726Z
LAST-MODIFIED:20251007T072900Z
UID:9488-1760090400-1760090400@www.pkp-seniorenbetreuung.de
SUMMARY:Wir zaubern Herbstgebäck
DESCRIPTION:
URL:https://www.pkp-seniorenbetreuung.de/angebot/herbstgebaeck-10-10-2025/
LOCATION:PKP Seniorenbetreuung Hohenstein-Ernstthal GmbH\, Südstraße 13\, Hohenstein- Ernstthal\, 09337 
CATEGORIES:Hohenstein-Ernstthal
ORGANIZER;CN="PKP Seniorenbetreuung Hohenstein-Ernstthal GmbH":MAILTO:info@pkp-hohenstein.de
END:VEVENT
BEGIN:VEVENT
DTSTART;TZID=Europe/Berlin:20251014T100000
DTEND;TZID=Europe/Berlin:20251014T100000
DTSTAMP:20260423T232124
CREATED:20251007T072815Z
LAST-MODIFIED:20251007T072815Z
UID:9490-1760436000-1760436000@www.pkp-seniorenbetreuung.de
SUMMARY:Wir zaubern Herbstgebäck
DESCRIPTION:
URL:https://www.pkp-seniorenbetreuung.de/angebot/herbstgebaeck-14-10-2025/
LOCATION:PKP Seniorenbetreuung Hohenstein-Ernstthal GmbH\, Südstraße 13\, Hohenstein- Ernstthal\, 09337 
CATEGORIES:Hohenstein-Ernstthal
ORGANIZER;CN="PKP Seniorenbetreuung Hohenstein-Ernstthal GmbH":MAILTO:info@pkp-hohenstein.de
END:VEVENT
BEGIN:VEVENT
DTSTART;TZID=Europe/Berlin:20251015T100000
DTEND;TZID=Europe/Berlin:20251015T100000
DTSTAMP:20260423T232124
CREATED:20251007T073014Z
LAST-MODIFIED:20251007T073014Z
UID:9494-1760522400-1760522400@www.pkp-seniorenbetreuung.de
SUMMARY:Wir zaubern Herbstgebäck
DESCRIPTION:
URL:https://www.pkp-seniorenbetreuung.de/angebot/herbstgebaeck-15-10-2025/
LOCATION:PKP Seniorenbetreuung Hohenstein-Ernstthal GmbH\, Südstraße 13\, Hohenstein- Ernstthal\, 09337 
CATEGORIES:Hohenstein-Ernstthal
ORGANIZER;CN="PKP Seniorenbetreuung Hohenstein-Ernstthal GmbH":MAILTO:info@pkp-hohenstein.de
END:VEVENT
BEGIN:VEVENT
DTSTART;TZID=Europe/Berlin:20251017T100000
DTEND;TZID=Europe/Berlin:20251017T100000
DTSTAMP:20260423T232124
CREATED:20251007T073055Z
LAST-MODIFIED:20251007T073055Z
UID:9496-1760695200-1760695200@www.pkp-seniorenbetreuung.de
SUMMARY:Wir zaubern Herbstgebäck
DESCRIPTION:
URL:https://www.pkp-seniorenbetreuung.de/angebot/herbstgebaeck-17-10-2025/
LOCATION:PKP Seniorenbetreuung Hohenstein-Ernstthal GmbH\, Südstraße 13\, Hohenstein- Ernstthal\, 09337 
CATEGORIES:Hohenstein-Ernstthal
ORGANIZER;CN="PKP Seniorenbetreuung Hohenstein-Ernstthal GmbH":MAILTO:info@pkp-hohenstein.de
END:VEVENT
BEGIN:VEVENT
DTSTART;TZID=Europe/Berlin:20251021T100000
DTEND;TZID=Europe/Berlin:20251021T100000
DTSTAMP:20260423T232124
CREATED:20251007T073152Z
LAST-MODIFIED:20251007T073152Z
UID:9498-1761040800-1761040800@www.pkp-seniorenbetreuung.de
SUMMARY:Wir zaubern Herbstgebäck
DESCRIPTION:
URL:https://www.pkp-seniorenbetreuung.de/angebot/herbstgebaeck-21-10-2025/
LOCATION:PKP Seniorenbetreuung Hohenstein-Ernstthal GmbH\, Südstraße 13\, Hohenstein- Ernstthal\, 09337 
CATEGORIES:Hohenstein-Ernstthal
ORGANIZER;CN="PKP Seniorenbetreuung Hohenstein-Ernstthal GmbH":MAILTO:info@pkp-hohenstein.de
END:VEVENT
BEGIN:VEVENT
DTSTART;TZID=Europe/Berlin:20251022T100000
DTEND;TZID=Europe/Berlin:20251022T100000
DTSTAMP:20260423T232124
CREATED:20251007T073233Z
LAST-MODIFIED:20251007T073233Z
UID:9500-1761127200-1761127200@www.pkp-seniorenbetreuung.de
SUMMARY:Wir zaubern Herbstgebäck
DESCRIPTION:
URL:https://www.pkp-seniorenbetreuung.de/angebot/herbstgebaeck-22-10-2025/
LOCATION:PKP Seniorenbetreuung Hohenstein-Ernstthal GmbH\, Südstraße 13\, Hohenstein- Ernstthal\, 09337 
CATEGORIES:Hohenstein-Ernstthal
ORGANIZER;CN="PKP Seniorenbetreuung Hohenstein-Ernstthal GmbH":MAILTO:info@pkp-hohenstein.de
END:VEVENT
BEGIN:VEVENT
DTSTART;TZID=Europe/Berlin:20251024T100000
DTEND;TZID=Europe/Berlin:20251024T100000
DTSTAMP:20260423T232124
CREATED:20251007T073316Z
LAST-MODIFIED:20251007T073316Z
UID:9502-1761300000-1761300000@www.pkp-seniorenbetreuung.de
SUMMARY:Wir zaubern Herbstgebäck
DESCRIPTION:
URL:https://www.pkp-seniorenbetreuung.de/angebot/herbstgebaeck-24-10-2025/
LOCATION:PKP Seniorenbetreuung Hohenstein-Ernstthal GmbH\, Südstraße 13\, Hohenstein- Ernstthal\, 09337 
CATEGORIES:Hohenstein-Ernstthal
ORGANIZER;CN="PKP Seniorenbetreuung Hohenstein-Ernstthal GmbH":MAILTO:info@pkp-hohenstein.de
END:VEVENT
END:VCALENDAR